BEGIN:VCALENDAR
PRODID:-//SINGPromos.com//NONSGML v1.0//EN
VERSION:2.0
CALSCALE:GREGORIAN
METHOD:PUBLISH
X-WR-CALNAME:SINGPromos.com
X-ORIGINAL-URL:https://singpromos.com
X-WR-CALDESC:Events for SINGPromos.com
BEGIN:VEVENT
DTSTART:20151210T000000
DTEND:20151210T235900
DTSTAMP:20260420T052615
CREATED:20151210T005657
LAST-MODIFIED:20151210T233701
UID:168208@https://singpromos.com
SUMMARY:Groupon 8% to 28% OFF (NO Min Spend) Selected Deals 24hr Coupon Code 10 Dec 2015
DESCRIPTION:Get 8% to 28% off selected goods deals with the promo code below at checkout.. For more information, visit [ https://singpromos.com/department-stores/groupon-8-to-28-off-no-min-spend-selected-deals-24hr-coupon-code-10-dec-2015-168208/ ]. 
LOCATION:
URL:https://singpromos.com/department-stores/groupon-8-to-28-off-no-min-spend-selected-deals-24hr-coupon-code-10-dec-2015-168208/
END:VEVENT
END:VCALENDAR