BEGIN:VCALENDAR
PRODID:-//SINGPromos.com//NONSGML v1.0//EN
VERSION:2.0
CALSCALE:GREGORIAN
METHOD:PUBLISH
X-WR-CALNAME:SINGPromos.com
X-ORIGINAL-URL:https://singpromos.com
X-WR-CALDESC:Events for SINGPromos.com
BEGIN:VEVENT
DTSTART:20151210T000000
DTEND:20151213T235900
DTSTAMP:20260422T082148
CREATED:20151210T175202
LAST-MODIFIED:20151210T175202
UID:168256@https://singpromos.com
SUMMARY:John Little 20% Off Promotion 10 - 13 Dec 2015
DESCRIPTION:Spot John the Little Elf and celebrate in style. 20% off all shoppers' weekend special, for 3 days from 10 December to 13 December 2015.. For more information, visit [ https://singpromos.com/department-stores/john-little-20-off-promotion-10-13-dec-2015-168256/ ]. 
LOCATION:
URL:https://singpromos.com/department-stores/john-little-20-off-promotion-10-13-dec-2015-168256/
END:VEVENT
END:VCALENDAR