BEGIN:VCALENDAR
PRODID:-//SINGPromos.com//NONSGML v1.0//EN
VERSION:2.0
CALSCALE:GREGORIAN
METHOD:PUBLISH
X-WR-CALNAME:SINGPromos.com
X-ORIGINAL-URL:https://singpromos.com
X-WR-CALDESC:Events for SINGPromos.com
BEGIN:VEVENT
DTSTART:20151212T000000
DTEND:20151212T235900
DTSTAMP:20260420T052612
CREATED:20151212T005031
LAST-MODIFIED:20151212T234146
UID:168400@https://singpromos.com
SUMMARY:Groupon 5% to 35% OFF (NO Min Spend) Selected Deals Coupon Code 12 Dec 2015
DESCRIPTION:Get 5% to 35% off selected deals with the promo code below at checkout at Groupon Singapore. For more information, visit [ https://singpromos.com/department-stores/groupon-5-to-35-off-no-min-spend-selected-deals-coupon-code-12-dec-2015-168400/ ]. 
LOCATION:
URL:https://singpromos.com/department-stores/groupon-5-to-35-off-no-min-spend-selected-deals-coupon-code-12-dec-2015-168400/
END:VEVENT
END:VCALENDAR