BEGIN:VCALENDAR
PRODID:-//SINGPromos.com//NONSGML v1.0//EN
VERSION:2.0
CALSCALE:GREGORIAN
METHOD:PUBLISH
X-WR-CALNAME:SINGPromos.com
X-ORIGINAL-URL:https://singpromos.com
X-WR-CALDESC:Events for SINGPromos.com
BEGIN:VEVENT
DTSTART:20151212T000000
DTEND:20151223T235900
DTSTAMP:20260420T175836
CREATED:20151212T104802
LAST-MODIFIED:20151212T104854
UID:168402@https://singpromos.com
SUMMARY:Fish & Co 1-for-1 Main Course @ East Coast 12 - 23 Dec 2015
DESCRIPTION:From now till 23 Dec, order a main course and have another on the house FREE at Fish & Co's East Coast outlet. Choose from a wide variety of over 20 main courses. For more information, visit [ https://singpromos.com/dining-restaurants-food/fish-co-1-for-1-main-course-east-coast-12-23-dec-2015-168402/ ]. 
LOCATION:91 East Coast Road, 428791
URL:https://singpromos.com/dining-restaurants-food/fish-co-1-for-1-main-course-east-coast-12-23-dec-2015-168402/
END:VEVENT
END:VCALENDAR