BEGIN:VCALENDAR
PRODID:-//SINGPromos.com//NONSGML v1.0//EN
VERSION:2.0
CALSCALE:GREGORIAN
METHOD:PUBLISH
X-WR-CALNAME:SINGPromos.com
X-ORIGINAL-URL:https://singpromos.com
X-WR-CALDESC:Events for SINGPromos.com
BEGIN:VEVENT
DTSTART:20151214T000000
DTEND:20151215T235900
DTSTAMP:20260420T052612
CREATED:20151214T005052
LAST-MODIFIED:20151216T123544
UID:168475@https://singpromos.com
SUMMARY:Pepper Lunch 35% Off Cash Voucher Deal From 14 Dec 2015
DESCRIPTION:Indulge in sizzling plates of up to 26 choices of main courses with this deal: Pepper Lunch Cash Voucher from $6.50 - that's 35% OFF the usual price! Learn how to get this deal before it ends soon. For more information, visit [ https://singpromos.com/dining-restaurants-food/pepper-lunch-35-off-cash-voucher-deal-from-14-dec-2015-168475/ ]. 
LOCATION:
URL:https://singpromos.com/dining-restaurants-food/pepper-lunch-35-off-cash-voucher-deal-from-14-dec-2015-168475/
END:VEVENT
END:VCALENDAR