BEGIN:VCALENDAR
PRODID:-//SINGPromos.com//NONSGML v1.0//EN
VERSION:2.0
CALSCALE:GREGORIAN
METHOD:PUBLISH
X-WR-CALNAME:SINGPromos.com
X-ORIGINAL-URL:https://singpromos.com
X-WR-CALDESC:Events for SINGPromos.com
BEGIN:VEVENT
DTSTART:20111019T000000
DTEND:20111030T235900
DTSTAMP:20260422T082147
CREATED:20111019T222901
LAST-MODIFIED:20111019T222901
UID:16857@https://singpromos.com
SUMMARY:John Little Health & Beauty Fair 19 - 30 Oct 2011
DESCRIPTION:Visit John Little from today till 30 October 2011 to enjoy up to 20% off and an additional 20% off on cosmetics, toiletries, health supplements and fragrances. Cardmembers enjoy additional $10 off with every $100 nett spend. For more information, visit [ https://singpromos.com/health/john-little-health-beauty-fair-19-30-oct-2011-16857/ ]. 
LOCATION:
URL:https://singpromos.com/health/john-little-health-beauty-fair-19-30-oct-2011-16857/
END:VEVENT
END:VCALENDAR