BEGIN:VCALENDAR
PRODID:-//SINGPromos.com//NONSGML v1.0//EN
VERSION:2.0
CALSCALE:GREGORIAN
METHOD:PUBLISH
X-WR-CALNAME:SINGPromos.com
X-ORIGINAL-URL:https://singpromos.com
X-WR-CALDESC:Events for SINGPromos.com
BEGIN:VEVENT
DTSTART:20151226T000000
DTEND:20151227T235900
DTSTAMP:20260422T082235
CREATED:20151215T113913
LAST-MODIFIED:20151214T234249
UID:168572@https://singpromos.com
SUMMARY:Kidztime Warehouse Sale 26 - 27 Dec 2015
DESCRIPTION:Kidztime will be having a Back to School Warehouse sale from 26 to 27 Dec, 10am - 6.30pm.. For more information, visit [ https://singpromos.com/warehouse-sales/kidztime-warehouse-sale-26-27-dec-2015-168572/ ]. 
LOCATION:159 Sin Ming Road, 575625
URL:https://singpromos.com/warehouse-sales/kidztime-warehouse-sale-26-27-dec-2015-168572/
END:VEVENT
END:VCALENDAR