BEGIN:VCALENDAR
PRODID:-//SINGPromos.com//NONSGML v1.0//EN
VERSION:2.0
CALSCALE:GREGORIAN
METHOD:PUBLISH
X-WR-CALNAME:SINGPromos.com
X-ORIGINAL-URL:https://singpromos.com
X-WR-CALDESC:Events for SINGPromos.com
BEGIN:VEVENT
DTSTART:20151215T000000
DTEND:20160124T235900
DTSTAMP:20260422T074752
CREATED:20151215T143604
LAST-MODIFIED:20160126T123417
UID:168586@https://singpromos.com
SUMMARY:Lazada $20 OFF $80 Spend Coupon Code From 15 Dec 2015
DESCRIPTION:Get $20 OFF when you order items at Lazada Singapore with this coupon code.. For more information, visit [ https://singpromos.com/department-stores/lazada-20-off-80-spend-coupon-code-15-31-dec-2015-168586/ ]. 
LOCATION:
URL:https://singpromos.com/department-stores/lazada-20-off-80-spend-coupon-code-15-31-dec-2015-168586/
END:VEVENT
END:VCALENDAR