BEGIN:VCALENDAR
PRODID:-//SINGPromos.com//NONSGML v1.0//EN
VERSION:2.0
CALSCALE:GREGORIAN
METHOD:PUBLISH
X-WR-CALNAME:SINGPromos.com
X-ORIGINAL-URL:https://singpromos.com
X-WR-CALDESC:Events for SINGPromos.com
BEGIN:VEVENT
DTSTART:20151218T000000
DTEND:20151227T235900
DTSTAMP:20260420T050959
CREATED:20151218T185156
LAST-MODIFIED:20151218T185156
UID:168845@https://singpromos.com
SUMMARY:World Of Sports 40% Off Storewide Sale From 18 Dec 2015
DESCRIPTION:World of Sports, World of Outdoors, Mizuno, Salomon and Columbia 40% OFF storewide Sale is back for a limited time.. For more information, visit [ https://singpromos.com/sports/world-of-sports-40-off-storewide-sale-from-18-dec-2015-168845/ ]. 
LOCATION:
URL:https://singpromos.com/sports/world-of-sports-40-off-storewide-sale-from-18-dec-2015-168845/
END:VEVENT
END:VCALENDAR