BEGIN:VCALENDAR
PRODID:-//SINGPromos.com//NONSGML v1.0//EN
VERSION:2.0
CALSCALE:GREGORIAN
METHOD:PUBLISH
X-WR-CALNAME:SINGPromos.com
X-ORIGINAL-URL:https://singpromos.com
X-WR-CALDESC:Events for SINGPromos.com
BEGIN:VEVENT
DTSTART:20151221T000000
DTEND:20151221T235900
DTSTAMP:20260420T052637
CREATED:20151221T112303
LAST-MODIFIED:20151222T001201
UID:168937@https://singpromos.com
SUMMARY:Groupon 5% to 30% OFF (NO Min Spend) Selected Deals 24hr Coupon Code 21 Dec 2015
DESCRIPTION:Get 5% to 30% off selected deals with the promo code below at checkout.. For more information, visit [ https://singpromos.com/department-stores/groupon-5-to-30-off-no-min-spend-selected-deals-24hr-coupon-code-21-dec-2015-168937/ ]. 
LOCATION:
URL:https://singpromos.com/department-stores/groupon-5-to-30-off-no-min-spend-selected-deals-24hr-coupon-code-21-dec-2015-168937/
END:VEVENT
END:VCALENDAR