BEGIN:VCALENDAR
PRODID:-//SINGPromos.com//NONSGML v1.0//EN
VERSION:2.0
CALSCALE:GREGORIAN
METHOD:PUBLISH
X-WR-CALNAME:SINGPromos.com
X-ORIGINAL-URL:https://singpromos.com
X-WR-CALDESC:Events for SINGPromos.com
BEGIN:VEVENT
DTSTART:20151222T000000
DTEND:20151223T235900
DTSTAMP:20260420T052635
CREATED:20151222T132113
LAST-MODIFIED:20151222T132318
UID:168958@https://singpromos.com
SUMMARY:Groupon 15% OFF Selected Travel Deals NO Min Spend Coupon Code 22 - 23 Dec 2015
DESCRIPTION:Get 15% off selected Travel deal with the promo code below at checkout from a list of eligible deals. For more information, visit [ https://singpromos.com/vacations/groupon-15-off-selected-travel-deals-no-min-spend-coupon-code-22-23-dec-2015-168958/ ]. 
LOCATION:
URL:https://singpromos.com/vacations/groupon-15-off-selected-travel-deals-no-min-spend-coupon-code-22-23-dec-2015-168958/
END:VEVENT
END:VCALENDAR