BEGIN:VCALENDAR
PRODID:-//SINGPromos.com//NONSGML v1.0//EN
VERSION:2.0
CALSCALE:GREGORIAN
METHOD:PUBLISH
X-WR-CALNAME:SINGPromos.com
X-ORIGINAL-URL:https://singpromos.com
X-WR-CALDESC:Events for SINGPromos.com
BEGIN:VEVENT
DTSTART:20151222T000000
DTEND:20151223T235900
DTSTAMP:20260422T202214
CREATED:20151222T120241
LAST-MODIFIED:20151222T120241
UID:168967@https://singpromos.com
SUMMARY:TomTom 55% Off Bandit Action Cam Premium 24hr Promo 22 - 23 Dec 2015
DESCRIPTION:Get the TomTom Bandit Action Cam Premium at 55% off with Amazon UK's 24hr Gold Box deal of the day. The TomTom Bandit GPS Action Camera. Just shake your phone for a ready-to-share edit of your highlights. Now every hero can share his skills.. For more information, visit [ https://singpromos.com/digital-cameras-dslr/tomtom-55-off-bandit-action-cam-premium-24hr-promo-22-23-dec-2015-168967/ ]. 
LOCATION:
URL:https://singpromos.com/digital-cameras-dslr/tomtom-55-off-bandit-action-cam-premium-24hr-promo-22-23-dec-2015-168967/
END:VEVENT
END:VCALENDAR