BEGIN:VCALENDAR
PRODID:-//SINGPromos.com//NONSGML v1.0//EN
VERSION:2.0
CALSCALE:GREGORIAN
METHOD:PUBLISH
X-WR-CALNAME:SINGPromos.com
X-ORIGINAL-URL:https://singpromos.com
X-WR-CALDESC:Events for SINGPromos.com
BEGIN:VEVENT
DTSTART:20151224T000000
DTEND:20151225T235900
DTSTAMP:20260420T053409
CREATED:20151224T191643
LAST-MODIFIED:20151224T191703
UID:169123@https://singpromos.com
SUMMARY:IKEA Opening Hours Christmas 24 - 25 Dec 2015
DESCRIPTION:IKEA stores will be open as usual on Christmas day on 25 December 2015. Below are the official opening hours for the two stores. For more information, visit [ https://singpromos.com/department-stores/ikea-opening-hours-christmas-24-25-dec-2015-169123/ ]. 
LOCATION:
URL:https://singpromos.com/department-stores/ikea-opening-hours-christmas-24-25-dec-2015-169123/
END:VEVENT
END:VCALENDAR