BEGIN:VCALENDAR
PRODID:-//SINGPromos.com//NONSGML v1.0//EN
VERSION:2.0
CALSCALE:GREGORIAN
METHOD:PUBLISH
X-WR-CALNAME:SINGPromos.com
X-ORIGINAL-URL:https://singpromos.com
X-WR-CALDESC:Events for SINGPromos.com
BEGIN:VEVENT
DTSTART:20151227T000000
DTEND:20151227T235900
DTSTAMP:20260420T052603
CREATED:20151227T143133
LAST-MODIFIED:20151228T000210
UID:169200@https://singpromos.com
SUMMARY:Groupon 5% to 10% OFF (NO Min Spend) Selected Deals 1-Day Coupon Code 27 Dec 2015
DESCRIPTION:Get 5% to 10% off selected goods deals with the promo code below at checkout.. For more information, visit [ https://singpromos.com/department-stores/groupon-5-to-10-off-no-min-spend-selected-deals-1-day-coupon-code-27-dec-2015-169200/ ]. 
LOCATION:
URL:https://singpromos.com/department-stores/groupon-5-to-10-off-no-min-spend-selected-deals-1-day-coupon-code-27-dec-2015-169200/
END:VEVENT
END:VCALENDAR