BEGIN:VCALENDAR
PRODID:-//SINGPromos.com//NONSGML v1.0//EN
VERSION:2.0
CALSCALE:GREGORIAN
METHOD:PUBLISH
X-WR-CALNAME:SINGPromos.com
X-ORIGINAL-URL:https://singpromos.com
X-WR-CALDESC:Events for SINGPromos.com
BEGIN:VEVENT
DTSTART:20151228T000000
DTEND:20151231T235900
DTSTAMP:20260420T052636
CREATED:20151228T002105
LAST-MODIFIED:20151231T233130
UID:169225@https://singpromos.com
SUMMARY:Groupon 5% to 25% OFF (NO Min Spend) Selected Deals Coupon Code 28 - 31 Dec 2015
DESCRIPTION:Get 5% to 25% off selected deals with the promo code below at checkout at Groupon Singapore. For more information, visit [ https://singpromos.com/department-stores/groupon-5-to-25-off-no-min-spend-selected-deals-coupon-code-28-31-dec-2015-169225/ ]. 
LOCATION:
URL:https://singpromos.com/department-stores/groupon-5-to-25-off-no-min-spend-selected-deals-coupon-code-28-31-dec-2015-169225/
END:VEVENT
END:VCALENDAR