BEGIN:VCALENDAR
PRODID:-//SINGPromos.com//NONSGML v1.0//EN
VERSION:2.0
CALSCALE:GREGORIAN
METHOD:PUBLISH
X-WR-CALNAME:SINGPromos.com
X-ORIGINAL-URL:https://singpromos.com
X-WR-CALDESC:Events for SINGPromos.com
BEGIN:VEVENT
DTSTART:20151230T000000
DTEND:20160110T235900
DTSTAMP:20260422T082236
CREATED:20151228T125844
LAST-MODIFIED:20151228T125844
UID:169240@https://singpromos.com
SUMMARY:Hush Puppies Warehouse Sale 30 Dec 2015 - 10 Jan 2016
DESCRIPTION:Hush Puppies will be having a CNY Warehouse Sale from 30th December 2015 till 10 Jan 2016. Get Men's, Ladies' and Kids' Apparel & Undergarment at up to 80% off from brands such as Hush Puppies, Jockey, Byford, Alphagear and Regatta Crew. For more information, visit [ https://singpromos.com/warehouse-sales/hush-puppies-warehouse-sale-30-dec-2015-10-jan-2016-169240/ ]. 
LOCATION:17 Bukit Batok Street 22, 659587
URL:https://singpromos.com/warehouse-sales/hush-puppies-warehouse-sale-30-dec-2015-10-jan-2016-169240/
END:VEVENT
END:VCALENDAR