BEGIN:VCALENDAR
PRODID:-//SINGPromos.com//NONSGML v1.0//EN
VERSION:2.0
CALSCALE:GREGORIAN
METHOD:PUBLISH
X-WR-CALNAME:SINGPromos.com
X-ORIGINAL-URL:https://singpromos.com
X-WR-CALDESC:Events for SINGPromos.com
BEGIN:VEVENT
DTSTART:20160101T000000
DTEND:20160101T235900
DTSTAMP:20260420T052612
CREATED:20160101T001258
LAST-MODIFIED:20160101T234037
UID:169464@https://singpromos.com
SUMMARY:Groupon 5% to 10% OFF (NO Min Spend) Selected Deals 1-Day Coupon Code 1 Jan 2016
DESCRIPTION:Get 5% to 10% off selected goods deals with the promo code below at checkout.. For more information, visit [ https://singpromos.com/department-stores/groupon-5-to-10-off-no-min-spend-selected-deals-1-day-coupon-code-1-jan-2016-169464/ ]. 
LOCATION:
URL:https://singpromos.com/department-stores/groupon-5-to-10-off-no-min-spend-selected-deals-1-day-coupon-code-1-jan-2016-169464/
END:VEVENT
END:VCALENDAR