BEGIN:VCALENDAR
PRODID:-//SINGPromos.com//NONSGML v1.0//EN
VERSION:2.0
CALSCALE:GREGORIAN
METHOD:PUBLISH
X-WR-CALNAME:SINGPromos.com
X-ORIGINAL-URL:https://singpromos.com
X-WR-CALDESC:Events for SINGPromos.com
BEGIN:VEVENT
DTSTART:20160105T000000
DTEND:20160214T235900
DTSTAMP:20260422T182147
CREATED:20160105T005337
LAST-MODIFIED:20160101T005427
UID:169474@https://singpromos.com
SUMMARY:LightInTheBox US$7 OFF US$65 Spend Storewide Coupon Code 5 Jan - 14 Feb 2016
DESCRIPTION:Get US$7 off when you make a minimum purchase of US$65.. For more information, visit [ https://singpromos.com/department-stores/lightinthebox-us7-off-us65-spend-storewide-coupon-code-5-jan-14-feb-2016-169474/ ]. 
LOCATION:
URL:https://singpromos.com/department-stores/lightinthebox-us7-off-us65-spend-storewide-coupon-code-5-jan-14-feb-2016-169474/
END:VEVENT
END:VCALENDAR