BEGIN:VCALENDAR
PRODID:-//SINGPromos.com//NONSGML v1.0//EN
VERSION:2.0
CALSCALE:GREGORIAN
METHOD:PUBLISH
X-WR-CALNAME:SINGPromos.com
X-ORIGINAL-URL:https://singpromos.com
X-WR-CALDESC:Events for SINGPromos.com
BEGIN:VEVENT
DTSTART:20160104T000000
DTEND:20160110T235900
DTSTAMP:20260420T232526
CREATED:20160104T011103
LAST-MODIFIED:20160104T015804
UID:169598@https://singpromos.com
SUMMARY:Air Asia fr $1 Promo Fares 4 - 10 Jan 2016
DESCRIPTION:Air Asia's latest promotion features fares from $1 (base fare) to Bangkok, Bali, Beijing, Tokyo, Penang, Taipei and more.. For more information, visit [ https://singpromos.com/airlines-flights/air-asia-fr-1-promo-fares-4-10-jan-2016-169598/ ]. 
LOCATION:
URL:https://singpromos.com/airlines-flights/air-asia-fr-1-promo-fares-4-10-jan-2016-169598/
END:VEVENT
END:VCALENDAR