BEGIN:VCALENDAR
PRODID:-//SINGPromos.com//NONSGML v1.0//EN
VERSION:2.0
CALSCALE:GREGORIAN
METHOD:PUBLISH
X-WR-CALNAME:SINGPromos.com
X-ORIGINAL-URL:https://singpromos.com
X-WR-CALDESC:Events for SINGPromos.com
BEGIN:VEVENT
DTSTART:20160105T000000
DTEND:20160131T235900
DTSTAMP:20260420T053439
CREATED:20160105T165213
LAST-MODIFIED:20160105T165213
UID:169827@https://singpromos.com
SUMMARY:IKEA Promo Offers 5 - 31 Jan 2016
DESCRIPTION:Enjoy discounts you can take advantage of as a member of IKEA Family (membership is free). For more information, visit [ https://singpromos.com/department-stores/ikea-promo-offers-5-31-jan-2016-169827/ ]. 
LOCATION:
URL:https://singpromos.com/department-stores/ikea-promo-offers-5-31-jan-2016-169827/
END:VEVENT
END:VCALENDAR