BEGIN:VCALENDAR
PRODID:-//SINGPromos.com//NONSGML v1.0//EN
VERSION:2.0
CALSCALE:GREGORIAN
METHOD:PUBLISH
X-WR-CALNAME:SINGPromos.com
X-ORIGINAL-URL:https://singpromos.com
X-WR-CALDESC:Events for SINGPromos.com
BEGIN:VEVENT
DTSTART:20160106T000000
DTEND:20160131T235900
DTSTAMP:20260420T175835
CREATED:20160106T185740
LAST-MODIFIED:20160106T180006
UID:169911@https://singpromos.com
SUMMARY:Norman Security Software 10% to 15% Off Coupon Codes 6 - 31 Jan 2016
DESCRIPTION:Get up to 15% OFF on Norman Security Suite PRO, Security Suite, Antivirus and more. For more information, visit [ https://singpromos.com/computers-pc/norman-security-software-10-to-15-off-coupon-codes-6-31-jan-2016-169911/ ]. 
LOCATION:
URL:https://singpromos.com/computers-pc/norman-security-software-10-to-15-off-coupon-codes-6-31-jan-2016-169911/
END:VEVENT
END:VCALENDAR