BEGIN:VCALENDAR
PRODID:-//SINGPromos.com//NONSGML v1.0//EN
VERSION:2.0
CALSCALE:GREGORIAN
METHOD:PUBLISH
X-WR-CALNAME:SINGPromos.com
X-ORIGINAL-URL:https://singpromos.com
X-WR-CALDESC:Events for SINGPromos.com
BEGIN:VEVENT
DTSTART:20160115T000000
DTEND:20160130T235900
DTSTAMP:20260420T053435
CREATED:20160106T210247
LAST-MODIFIED:20160106T210247
UID:169922@https://singpromos.com
SUMMARY:IKEA Extended Opening Hours & $1 Late Night Supper Deals (Fri & Sat) 15 - 30 Jan 2016
DESCRIPTION:IKEA will be open till 12 midnight on three exclusive Fridays and Saturdays. Enjoy late night snacks ranging from Siew Mai to Mini Lian Rou Pau & the famous Chicken Wings for just $1 at the IKEA restaurant during these dates after 9pm.. For more information, visit [ https://singpromos.com/department-stores/ikea-extended-opening-hours-1-late-night-supper-deals-fri-sat-15-30-jan-2016-169922/ ]. 
LOCATION:
URL:https://singpromos.com/department-stores/ikea-extended-opening-hours-1-late-night-supper-deals-fri-sat-15-30-jan-2016-169922/
END:VEVENT
END:VCALENDAR