BEGIN:VCALENDAR
PRODID:-//SINGPromos.com//NONSGML v1.0//EN
VERSION:2.0
CALSCALE:GREGORIAN
METHOD:PUBLISH
X-WR-CALNAME:SINGPromos.com
X-ORIGINAL-URL:https://singpromos.com
X-WR-CALDESC:Events for SINGPromos.com
BEGIN:VEVENT
DTSTART:20160107T000000
DTEND:20160119T235900
DTSTAMP:20260422T063111
CREATED:20160107T043618
LAST-MODIFIED:20160106T233848
UID:169926@https://singpromos.com
SUMMARY:Triumph Lingerie Fair @ Ngee Ann City 7 - 19 Jan 2016
DESCRIPTION:Triumph is spicing things up with sexy intimates at their Lingerie Fair from Thu 7 Jan to 19 Jan at Talking Hall, B1. For more information, visit [ https://singpromos.com/happenings/triumph-lingerie-fair-ngee-ann-city-7-19-jan-2016-169926/ ]. 
LOCATION:238873
URL:https://singpromos.com/happenings/triumph-lingerie-fair-ngee-ann-city-7-19-jan-2016-169926/
END:VEVENT
END:VCALENDAR