BEGIN:VCALENDAR
PRODID:-//SINGPromos.com//NONSGML v1.0//EN
VERSION:2.0
CALSCALE:GREGORIAN
METHOD:PUBLISH
X-WR-CALNAME:SINGPromos.com
X-ORIGINAL-URL:https://singpromos.com
X-WR-CALDESC:Events for SINGPromos.com
BEGIN:VEVENT
DTSTART:20160108T000000
DTEND:20160110T235900
DTSTAMP:20260420T052633
CREATED:20160108T001339
LAST-MODIFIED:20160108T001339
UID:170009@https://singpromos.com
SUMMARY:Groupon 5% to 12% OFF Selected Travel Deals NO Min Spend Coupon Code 8 - 10 Jan 2016
DESCRIPTION:Get 5% to 12% off selected Travel deal with the promo code below at checkout from a list of eligible deals. For more information, visit [ https://singpromos.com/vacations/groupon-5-to-12-off-selected-travel-deals-no-min-spend-coupon-code-8-10-jan-2016-170009/ ]. 
LOCATION:
URL:https://singpromos.com/vacations/groupon-5-to-12-off-selected-travel-deals-no-min-spend-coupon-code-8-10-jan-2016-170009/
END:VEVENT
END:VCALENDAR