BEGIN:VCALENDAR
PRODID:-//SINGPromos.com//NONSGML v1.0//EN
VERSION:2.0
CALSCALE:GREGORIAN
METHOD:PUBLISH
X-WR-CALNAME:SINGPromos.com
X-ORIGINAL-URL:https://singpromos.com
X-WR-CALDESC:Events for SINGPromos.com
BEGIN:VEVENT
DTSTART:20160108T000000
DTEND:20160111T235900
DTSTAMP:20260422T081546
CREATED:20160108T161231
LAST-MODIFIED:20160108T161231
UID:170052@https://singpromos.com
SUMMARY:Triumph Buy 2 & Get 50% Off Online Promo 8 - 11 Jan 2016
DESCRIPTION:Buy 2 or more Triumph products and get 50% off for a limited time. For more information, visit [ https://singpromos.com/fashion-accessories/triumph-buy-2-get-50-off-online-promo-8-11-jan-2016-170052/ ]. 
LOCATION:
URL:https://singpromos.com/fashion-accessories/triumph-buy-2-get-50-off-online-promo-8-11-jan-2016-170052/
END:VEVENT
END:VCALENDAR