BEGIN:VCALENDAR
PRODID:-//SINGPromos.com//NONSGML v1.0//EN
VERSION:2.0
CALSCALE:GREGORIAN
METHOD:PUBLISH
X-WR-CALNAME:SINGPromos.com
X-ORIGINAL-URL:https://singpromos.com
X-WR-CALDESC:Events for SINGPromos.com
BEGIN:VEVENT
DTSTART:20160111T000000
DTEND:20160314T235900
DTSTAMP:20260422T082301
CREATED:20160111T173155
LAST-MODIFIED:20160315T141307
UID:170211@https://singpromos.com
SUMMARY:(Over 1650 Sold) Famous Amos 20% OFF Cash Voucher Reedemable @ All Outlets From 11 Jan 2016
DESCRIPTION:Get 20% off discount at Famous Amos with this deal: $16 for $20 cash voucher (4 x $5) worth of cash vouchers (Valid at all outlets islandwide) - that's 20% OFF the usual price!! Learn how to get this deal before it ends soon. For more information, visit [ https://singpromos.com/dining-restaurants-food/famous-amos-20-off-cash-voucher-reedemable-all-outlets-from-11-jan-2016-170211/ ]. 
LOCATION:
URL:https://singpromos.com/dining-restaurants-food/famous-amos-20-off-cash-voucher-reedemable-all-outlets-from-11-jan-2016-170211/
END:VEVENT
END:VCALENDAR