BEGIN:VCALENDAR
PRODID:-//SINGPromos.com//NONSGML v1.0//EN
VERSION:2.0
CALSCALE:GREGORIAN
METHOD:PUBLISH
X-WR-CALNAME:SINGPromos.com
X-ORIGINAL-URL:https://singpromos.com
X-WR-CALDESC:Events for SINGPromos.com
BEGIN:VEVENT
DTSTART:20160112T000000
DTEND:20160112T235900
DTSTAMP:20260422T082240
CREATED:20160112T001659
LAST-MODIFIED:20160112T233939
UID:170241@https://singpromos.com
SUMMARY:Groupon 5% to 25% OFF (NO Min Spend) Selected Deals 24hr Coupon Code 12 Jan 2016
DESCRIPTION:Get 5% to 25% off selected deals with the promo code below at checkout.. For more information, visit [ https://singpromos.com/department-stores/groupon-5-to-25-off-no-min-spend-selected-deals-24hr-coupon-code-12-jan-2016-170241/ ]. 
LOCATION:
URL:https://singpromos.com/department-stores/groupon-5-to-25-off-no-min-spend-selected-deals-24hr-coupon-code-12-jan-2016-170241/
END:VEVENT
END:VCALENDAR