BEGIN:VCALENDAR
PRODID:-//SINGPromos.com//NONSGML v1.0//EN
VERSION:2.0
CALSCALE:GREGORIAN
METHOD:PUBLISH
X-WR-CALNAME:SINGPromos.com
X-ORIGINAL-URL:https://singpromos.com
X-WR-CALDESC:Events for SINGPromos.com
BEGIN:VEVENT
DTSTART:20160114T000000
DTEND:20160117T235900
DTSTAMP:20260422T082130
CREATED:20160114T154722
LAST-MODIFIED:20160114T145749
UID:170385@https://singpromos.com
SUMMARY:John Little 20% Off Promotion 14 - 17 Jan 2016
DESCRIPTION:Enjoy 20% off regular-priced items at John Little.. For more information, visit [ https://singpromos.com/department-stores/john-little-20-off-promotion-14-17-jan-2016-170385/ ]. 
LOCATION:
URL:https://singpromos.com/department-stores/john-little-20-off-promotion-14-17-jan-2016-170385/
END:VEVENT
END:VCALENDAR