BEGIN:VCALENDAR
PRODID:-//SINGPromos.com//NONSGML v1.0//EN
VERSION:2.0
CALSCALE:GREGORIAN
METHOD:PUBLISH
X-WR-CALNAME:SINGPromos.com
X-ORIGINAL-URL:https://singpromos.com
X-WR-CALDESC:Events for SINGPromos.com
BEGIN:VEVENT
DTSTART:20160118T000000
DTEND:20160118T235900
DTSTAMP:20260422T082304
CREATED:20160118T140507
LAST-MODIFIED:20160119T000722
UID:170580@https://singpromos.com
SUMMARY:Groupon 5% OFF (NO Min Spend) ALL Local Deals 24hr Coupon Code 18 Jan 2016
DESCRIPTION:Get 5% off ALL Local deals with the promo code below at checkout.. For more information, visit [ https://singpromos.com/department-stores/groupon-5-off-no-min-spend-all-local-deals-24hr-coupon-code-18-jan-2016-170580/ ]. 
LOCATION:
URL:https://singpromos.com/department-stores/groupon-5-off-no-min-spend-all-local-deals-24hr-coupon-code-18-jan-2016-170580/
END:VEVENT
END:VCALENDAR