BEGIN:VCALENDAR
PRODID:-//SINGPromos.com//NONSGML v1.0//EN
VERSION:2.0
CALSCALE:GREGORIAN
METHOD:PUBLISH
X-WR-CALNAME:SINGPromos.com
X-ORIGINAL-URL:https://singpromos.com
X-WR-CALDESC:Events for SINGPromos.com
BEGIN:VEVENT
DTSTART:20160119T000000
DTEND:20160119T235900
DTSTAMP:20260422T212626
CREATED:20160118T122457
LAST-MODIFIED:20160118T122457
UID:170610@https://singpromos.com
SUMMARY:Scoot Take Off Tuesday fr $5 2hr Promo Fares (7am to 9am) 19 Jan 2016
DESCRIPTION:Scoot will be having a new round of Take Off Tuesday promtoion on 19 Jan, 7am to 9am, with base fares starting from $5. For more information, visit [ https://singpromos.com/airlines-flights/scoot-take-off-tuesday-fr-5-2hr-promo-fares-7am-to-9am-19-jan-2016-170610/ ]. 
LOCATION:
URL:https://singpromos.com/airlines-flights/scoot-take-off-tuesday-fr-5-2hr-promo-fares-7am-to-9am-19-jan-2016-170610/
END:VEVENT
END:VCALENDAR