BEGIN:VCALENDAR
PRODID:-//SINGPromos.com//NONSGML v1.0//EN
VERSION:2.0
CALSCALE:GREGORIAN
METHOD:PUBLISH
X-WR-CALNAME:SINGPromos.com
X-ORIGINAL-URL:https://singpromos.com
X-WR-CALDESC:Events for SINGPromos.com
BEGIN:VEVENT
DTSTART:20160120T000000
DTEND:20160126T235900
DTSTAMP:20260422T212637
CREATED:20160118T172232
LAST-MODIFIED:20160118T135451
UID:170626@https://singpromos.com
SUMMARY:Isetan Festive Home Bazaar 20 - 26 Jan 2016
DESCRIPTION:Isetan will be having a Festive Home Bazaar from 20 to 26 Jan 2016. For more information, visit [ https://singpromos.com/happenings/isetan-festive-home-bazaar-20-26-jan-2016-170626/ ]. 
LOCATION:
URL:https://singpromos.com/happenings/isetan-festive-home-bazaar-20-26-jan-2016-170626/
END:VEVENT
END:VCALENDAR