BEGIN:VCALENDAR
PRODID:-//SINGPromos.com//NONSGML v1.0//EN
VERSION:2.0
CALSCALE:GREGORIAN
METHOD:PUBLISH
X-WR-CALNAME:SINGPromos.com
X-ORIGINAL-URL:https://singpromos.com
X-WR-CALDESC:Events for SINGPromos.com
BEGIN:VEVENT
DTSTART:20160122T000000
DTEND:20160206T235900
DTSTAMP:20260422T212627
CREATED:20160118T171417
LAST-MODIFIED:20160118T171541
UID:170638@https://singpromos.com
SUMMARY:iChef CNY Warehouse Sale 22 Jan - 6 Feb 2016
DESCRIPTION:iChef will be having a CNY Warehouse sale from 22 January to 6 February 2016. Enjoy up to 70% off. For more information, visit [ https://singpromos.com/warehouse-sales/ichef-cny-warehouse-sale-22-jan-6-feb-2016-170638/ ]. 
LOCATION:26 Tai Seng Street, 534057
URL:https://singpromos.com/warehouse-sales/ichef-cny-warehouse-sale-22-jan-6-feb-2016-170638/
END:VEVENT
END:VCALENDAR