BEGIN:VCALENDAR
PRODID:-//SINGPromos.com//NONSGML v1.0//EN
VERSION:2.0
CALSCALE:GREGORIAN
METHOD:PUBLISH
X-WR-CALNAME:SINGPromos.com
X-ORIGINAL-URL:https://singpromos.com
X-WR-CALDESC:Events for SINGPromos.com
BEGIN:VEVENT
DTSTART:20160118T000000
DTEND:20160222T235900
DTSTAMP:20260422T212539
CREATED:20160118T184052
LAST-MODIFIED:20160118T184124
UID:170644@https://singpromos.com
SUMMARY:Pastamania New CNY Specials 18 Jan - 22 Feb 2016
DESCRIPTION:To celebrate the Lunar New Year, PastaMania is offering a CNY ravioli set that brings you good luck.. For more information, visit [ https://singpromos.com/dining-restaurants-food/pastamania-new-cny-specials-18-jan-22-feb-2016-170644/ ]. 
LOCATION:
URL:https://singpromos.com/dining-restaurants-food/pastamania-new-cny-specials-18-jan-22-feb-2016-170644/
END:VEVENT
END:VCALENDAR