BEGIN:VCALENDAR
PRODID:-//SINGPromos.com//NONSGML v1.0//EN
VERSION:2.0
CALSCALE:GREGORIAN
METHOD:PUBLISH
X-WR-CALNAME:SINGPromos.com
X-ORIGINAL-URL:https://singpromos.com
X-WR-CALDESC:Events for SINGPromos.com
BEGIN:VEVENT
DTSTART:20160219T000000
DTEND:20160220T235900
DTSTAMP:20260420T012217
CREATED:20160123T113757
LAST-MODIFIED:20160217T171957
UID:171022@https://singpromos.com
SUMMARY:Chingay 2016 Parade @ Singapore Flyer 19 - 20 Feb 2016
DESCRIPTION:Chingay Parade 2016 will be held on Friday, 19 and Saturday, 20 February 2016, 8.00pm at F1 Pit Building. Vibrant floats, dancing dragons, prancing lions, stilt walkers, wushu masters and many, many more. For more information, visit [ https://singpromos.com/happenings/chingay-2016-parade-singapore-flyer-19-20-feb-2016-171022/ ]. 
LOCATION:
URL:https://singpromos.com/happenings/chingay-2016-parade-singapore-flyer-19-20-feb-2016-171022/
END:VEVENT
END:VCALENDAR