BEGIN:VCALENDAR
PRODID:-//SINGPromos.com//NONSGML v1.0//EN
VERSION:2.0
CALSCALE:GREGORIAN
METHOD:PUBLISH
X-WR-CALNAME:SINGPromos.com
X-ORIGINAL-URL:https://singpromos.com
X-WR-CALDESC:Events for SINGPromos.com
BEGIN:VEVENT
DTSTART:20160220T000000
DTEND:20160221T235900
DTSTAMP:20260422T210939
CREATED:20160123T124551
LAST-MODIFIED:20160201T180836
UID:171026@https://singpromos.com
SUMMARY:Singapore Airshow 2016 Highlights, Dates, Opening Hours & More 20 - 21 Feb 2016
DESCRIPTION:Bolder, Faster, Louder! The excitement returns at Singapore Airshow 2016 - Asia's largest aerospace and defence event and one of the world's most important aviation shows! Look forward to a wide range of exciting activities including the stunning aerobatic flying displays,. For more information, visit [ https://singpromos.com/happenings/singapore-airshow-2016-highlights-dates-opening-hours-more-20-21-feb-2016-171026/ ]. 
LOCATION:
URL:https://singpromos.com/happenings/singapore-airshow-2016-highlights-dates-opening-hours-more-20-21-feb-2016-171026/
END:VEVENT
END:VCALENDAR