BEGIN:VCALENDAR
PRODID:-//SINGPromos.com//NONSGML v1.0//EN
VERSION:2.0
CALSCALE:GREGORIAN
METHOD:PUBLISH
X-WR-CALNAME:SINGPromos.com
X-ORIGINAL-URL:https://singpromos.com
X-WR-CALDESC:Events for SINGPromos.com
BEGIN:VEVENT
DTSTART:20160202T000000
DTEND:20160213T235900
DTSTAMP:20260422T195623
CREATED:20160131T163411
LAST-MODIFIED:20160123T133514
UID:171055@https://singpromos.com
SUMMARY:LightInTheBox US$25 OFF US$235 Spend Storewide Coupon Code 2 - 13 Feb 2016
DESCRIPTION:Get US$25 off when you make a minimum purchase of US$235.. For more information, visit [ https://singpromos.com/department-stores/lightinthebox-us25-off-us235-spend-storewide-coupon-code-2-13-feb-2016-171055/ ]. 
LOCATION:
URL:https://singpromos.com/department-stores/lightinthebox-us25-off-us235-spend-storewide-coupon-code-2-13-feb-2016-171055/
END:VEVENT
END:VCALENDAR