BEGIN:VCALENDAR
PRODID:-//SINGPromos.com//NONSGML v1.0//EN
VERSION:2.0
CALSCALE:GREGORIAN
METHOD:PUBLISH
X-WR-CALNAME:SINGPromos.com
X-ORIGINAL-URL:https://singpromos.com
X-WR-CALDESC:Events for SINGPromos.com
BEGIN:VEVENT
DTSTART:20160126T000000
DTEND:20160222T235900
DTSTAMP:20260422T074909
CREATED:20160126T003842
LAST-MODIFIED:20160223T184650
UID:171158@https://singpromos.com
SUMMARY:Lazada $18 OFF $88 Spend Coupon Code 26 Jan - 31 Mar 2016
DESCRIPTION:Get $18 OFF when you order Lazada Singapore with the below coupon code with Lazada's promotion. Must make payment via MasterCard's MasterPass. For more information, visit [ https://singpromos.com/department-stores/lazada-18-off-88-spend-coupon-code-26-jan-31-mar-2016-171158/ ]. 
LOCATION:
URL:https://singpromos.com/department-stores/lazada-18-off-88-spend-coupon-code-26-jan-31-mar-2016-171158/
END:VEVENT
END:VCALENDAR