BEGIN:VCALENDAR
PRODID:-//SINGPromos.com//NONSGML v1.0//EN
VERSION:2.0
CALSCALE:GREGORIAN
METHOD:PUBLISH
X-WR-CALNAME:SINGPromos.com
X-ORIGINAL-URL:https://singpromos.com
X-WR-CALDESC:Events for SINGPromos.com
BEGIN:VEVENT
DTSTART:20160127T000000
DTEND:20160127T235900
DTSTAMP:20260422T074848
CREATED:20160127T002549
LAST-MODIFIED:20160127T234736
UID:171214@https://singpromos.com
SUMMARY:WD $93 2TB My Passport Ultra USB External Storage Drive 1-Day Deal 27 Jan 2016
DESCRIPTION:Get the Western Digital WD 2TB My Passport Ultra USB External Storage Drive at $93 at Lazada's online store for just one day only. Must make payment via MasterPass. For more information, visit [ https://singpromos.com/computers-pc/wd-93-2tb-my-passport-ultra-usb-external-storage-drive-1-day-deal-27-jan-2016-171214/ ]. 
LOCATION:
URL:https://singpromos.com/computers-pc/wd-93-2tb-my-passport-ultra-usb-external-storage-drive-1-day-deal-27-jan-2016-171214/
END:VEVENT
END:VCALENDAR