BEGIN:VCALENDAR
PRODID:-//SINGPromos.com//NONSGML v1.0//EN
VERSION:2.0
CALSCALE:GREGORIAN
METHOD:PUBLISH
X-WR-CALNAME:SINGPromos.com
X-ORIGINAL-URL:https://singpromos.com
X-WR-CALDESC:Events for SINGPromos.com
BEGIN:VEVENT
DTSTART:20160129T000000
DTEND:20160131T235900
DTSTAMP:20260422T212636
CREATED:20160129T085549
LAST-MODIFIED:20160128T234137
UID:171334@https://singpromos.com
SUMMARY:Le Creuset 40% Off Any Two Pieces 29 - 31 Jan 2016
DESCRIPTION:Purchase any Le Creuset two pieces at 40% off in their Final Lunar New Year Specials from now till 31 January 2016. For more information, visit [ https://singpromos.com/kitchenware-cookware/le-creuset-40-off-any-two-pieces-29-31-jan-2016-171334/ ]. 
LOCATION:
URL:https://singpromos.com/kitchenware-cookware/le-creuset-40-off-any-two-pieces-29-31-jan-2016-171334/
END:VEVENT
END:VCALENDAR