BEGIN:VCALENDAR
PRODID:-//SINGPromos.com//NONSGML v1.0//EN
VERSION:2.0
CALSCALE:GREGORIAN
METHOD:PUBLISH
X-WR-CALNAME:SINGPromos.com
X-ORIGINAL-URL:https://singpromos.com
X-WR-CALDESC:Events for SINGPromos.com
BEGIN:VEVENT
DTSTART:20160129T000000
DTEND:20160131T235900
DTSTAMP:20260422T212636
CREATED:20160129T141134
LAST-MODIFIED:20160129T142029
UID:171342@https://singpromos.com
SUMMARY:Fairprice 3-Day Specials (Golden Chef, M&M's, Brand's, 100PLUS & More) 29 - 31 Jan 2016
DESCRIPTION:Check out NTUC Fairprice's latest 3-Day Specials deals featuring Golden Chef Royal Abalone Treasure Pot, Golden Chef Chile Sea Asparagus, BRAND'S Essence Of Chicken and many more. For more information, visit [ https://singpromos.com/dining-restaurants-food/fairprice-3-day-specials-golden-chef-mms-brands-100plus-more-29-31-jan-2016-171342/ ]. 
LOCATION:
URL:https://singpromos.com/dining-restaurants-food/fairprice-3-day-specials-golden-chef-mms-brands-100plus-more-29-31-jan-2016-171342/
END:VEVENT
END:VCALENDAR