BEGIN:VCALENDAR
PRODID:-//SINGPromos.com//NONSGML v1.0//EN
VERSION:2.0
CALSCALE:GREGORIAN
METHOD:PUBLISH
X-WR-CALNAME:SINGPromos.com
X-ORIGINAL-URL:https://singpromos.com
X-WR-CALDESC:Events for SINGPromos.com
BEGIN:VEVENT
DTSTART:20160129T000000
DTEND:20160130T235900
DTSTAMP:20260422T212733
CREATED:20160129T132201
LAST-MODIFIED:20160129T140126
UID:171366@https://singpromos.com
SUMMARY:Linksys 63% Off AC1200 Wi-Fi Range Extender RE6700 24hr Promo 29 - 30 Jan 2016
DESCRIPTION:Extend your wireless network with the Linksys RE6700 Universal Dual Band AC1200 Wi-Fi Range Extender (Gigabit Ethernet, AUX Music Streaming, WPS) at 63% OFF with Amazon UK's 24hr Gold Box deal of the day. For more information, visit [ https://singpromos.com/computers-pc/linksys-63-off-wi-fi-range-extender-re6700-29-30-jan-2016-171366/ ]. 
LOCATION:
URL:https://singpromos.com/computers-pc/linksys-63-off-wi-fi-range-extender-re6700-29-30-jan-2016-171366/
END:VEVENT
END:VCALENDAR