BEGIN:VCALENDAR
PRODID:-//SINGPromos.com//NONSGML v1.0//EN
VERSION:2.0
CALSCALE:GREGORIAN
METHOD:PUBLISH
X-WR-CALNAME:SINGPromos.com
X-ORIGINAL-URL:https://singpromos.com
X-WR-CALDESC:Events for SINGPromos.com
BEGIN:VEVENT
DTSTART:20160207T000000
DTEND:20160208T235900
DTSTAMP:20260422T212636
CREATED:20160130T131137
LAST-MODIFIED:20160205T190120
UID:171374@https://singpromos.com
SUMMARY:Singtel FREE Unlimited Mobile Data For All Postpaid Customers 7 - 8 Feb 2016
DESCRIPTION:Singtel is ushering in the Year of the Monkey with a goodie bag of treats for its customers. All Singtel postpaid customers will enjoy two days of free unlimited mobile data from 7 February to 8 February. For more information, visit [ https://singpromos.com/telecoms/singtel-free-unlimited-mobile-data-for-all-customers-7-8-feb-2016-171374/ ]. 
LOCATION:
URL:https://singpromos.com/telecoms/singtel-free-unlimited-mobile-data-for-all-customers-7-8-feb-2016-171374/
END:VEVENT
END:VCALENDAR