BEGIN:VCALENDAR
PRODID:-//SINGPromos.com//NONSGML v1.0//EN
VERSION:2.0
CALSCALE:GREGORIAN
METHOD:PUBLISH
X-WR-CALNAME:SINGPromos.com
X-ORIGINAL-URL:https://singpromos.com
X-WR-CALDESC:Events for SINGPromos.com
BEGIN:VEVENT
DTSTART:20160129T000000
DTEND:20160217T235900
DTSTAMP:20260422T212636
CREATED:20160130T132242
LAST-MODIFIED:20160211T004737
UID:171387@https://singpromos.com
SUMMARY:McDonald's Discount Coupons 29 Jan - 17 Feb 2016
DESCRIPTION:Enjoy discounted offers at McDonald's with these coupons valid till 17 Feb 2016. Simply flash the appropriate coupon image below to redeem!. For more information, visit [ https://singpromos.com/dining-restaurants-food/mcdonalds-discount-coupons-29-jan-17-feb-2016-171387/ ]. 
LOCATION:
URL:https://singpromos.com/dining-restaurants-food/mcdonalds-discount-coupons-29-jan-17-feb-2016-171387/
END:VEVENT
END:VCALENDAR