BEGIN:VCALENDAR
PRODID:-//SINGPromos.com//NONSGML v1.0//EN
VERSION:2.0
CALSCALE:GREGORIAN
METHOD:PUBLISH
X-WR-CALNAME:SINGPromos.com
X-ORIGINAL-URL:https://singpromos.com
X-WR-CALDESC:Events for SINGPromos.com
BEGIN:VEVENT
DTSTART:20160129T000000
DTEND:20160211T235900
DTSTAMP:20260422T212733
CREATED:20160129T193325
LAST-MODIFIED:20160129T193325
UID:171405@https://singpromos.com
SUMMARY:Giant Abalone & Other CNY Offers 29 Jan - 11 Feb 2016
DESCRIPTION:Check out Giant's latest Dare-To-Compare and other weekly offers featuring abalones (New Moon, Fortune, Calmex), Haagen-Dazs and more. For more information, visit [ https://singpromos.com/dining-restaurants-food/giant-abalone-other-cny-offers-29-jan-11-feb-2016-171405/ ]. 
LOCATION:
URL:https://singpromos.com/dining-restaurants-food/giant-abalone-other-cny-offers-29-jan-11-feb-2016-171405/
END:VEVENT
END:VCALENDAR