BEGIN:VCALENDAR
PRODID:-//SINGPromos.com//NONSGML v1.0//EN
VERSION:2.0
CALSCALE:GREGORIAN
METHOD:PUBLISH
X-WR-CALNAME:SINGPromos.com
X-ORIGINAL-URL:https://singpromos.com
X-WR-CALDESC:Events for SINGPromos.com
BEGIN:VEVENT
DTSTART:20160129T000000
DTEND:20160203T235900
DTSTAMP:20260422T212637
CREATED:20160129T194001
LAST-MODIFIED:20160129T194018
UID:171410@https://singpromos.com
SUMMARY:Giant Dare-To-Compare Offers (Haagen-Dazs, Ferrero Rocher & More) 29 Jan - 3 Feb 2016
DESCRIPTION:Giant is offering some specials in its latest Dare-To-Compare offers - Haagen-Dazs ice cream tubs at $9.95 each, Ferrero Rocher T24 box at $10.90 with free $2 voucher and many more. For more information, visit [ https://singpromos.com/dining-restaurants-food/giant-dare-to-compare-offers-haagen-dazs-ferrero-rocher-more-29-jan-3-feb-2016-171410/ ]. 
LOCATION:
URL:https://singpromos.com/dining-restaurants-food/giant-dare-to-compare-offers-haagen-dazs-ferrero-rocher-more-29-jan-3-feb-2016-171410/
END:VEVENT
END:VCALENDAR