BEGIN:VCALENDAR
PRODID:-//SINGPromos.com//NONSGML v1.0//EN
VERSION:2.0
CALSCALE:GREGORIAN
METHOD:PUBLISH
X-WR-CALNAME:SINGPromos.com
X-ORIGINAL-URL:https://singpromos.com
X-WR-CALDESC:Events for SINGPromos.com
BEGIN:VEVENT
DTSTART:20160130T000000
DTEND:20160130T235900
DTSTAMP:20260422T212636
CREATED:20160130T133904
LAST-MODIFIED:20160130T134206
UID:171418@https://singpromos.com
SUMMARY:Fairprice 1-Day CNY Deals (Coca-Cola, Van Houten & More) 30 Jan 2016
DESCRIPTION:Fairprice counts down to the Lunar New Year with unique 1-day deals. For today, offers include Coca-Cola carton, Van Houten gift tin, Milo and more. For more information, visit [ https://singpromos.com/dining-restaurants-food/fairprice-1-day-cny-deals-coca-cola-van-houten-more-30-jan-2016-171418/ ]. 
LOCATION:
URL:https://singpromos.com/dining-restaurants-food/fairprice-1-day-cny-deals-coca-cola-van-houten-more-30-jan-2016-171418/
END:VEVENT
END:VCALENDAR