BEGIN:VCALENDAR
PRODID:-//SINGPromos.com//NONSGML v1.0//EN
VERSION:2.0
CALSCALE:GREGORIAN
METHOD:PUBLISH
X-WR-CALNAME:SINGPromos.com
X-ORIGINAL-URL:https://singpromos.com
X-WR-CALDESC:Events for SINGPromos.com
BEGIN:VEVENT
DTSTART:20160130T000000
DTEND:20160131T235900
DTSTAMP:20260422T212626
CREATED:20160130T115545
LAST-MODIFIED:20160130T115545
UID:171438@https://singpromos.com
SUMMARY:Oral-B 67% Off Pro 3000 CrossAction Electric Rechargeable Toothbrush 24hr Promo 30 - 31 Jan 2016
DESCRIPTION:Get the Oral-B Pro 3000 CrossAction Electric Rechargeable Toothbrush Powered by Braun at 67% OFF with Amazon UK's 24hr Gold Box deal of the day. Professionally-inspired for tooth-by-tooth precision cleaning to remove up to 100 per cent more plaque than a regular manual toothbrush. For more information, visit [ https://singpromos.com/personal-care/oral-b-67-off-pro-3000-crossaction-electric-rechargeable-toothbrush-24hr-promo-30-31-jan-2016-171438/ ]. 
LOCATION:
URL:https://singpromos.com/personal-care/oral-b-67-off-pro-3000-crossaction-electric-rechargeable-toothbrush-24hr-promo-30-31-jan-2016-171438/
END:VEVENT
END:VCALENDAR