BEGIN:VCALENDAR
PRODID:-//SINGPromos.com//NONSGML v1.0//EN
VERSION:2.0
CALSCALE:GREGORIAN
METHOD:PUBLISH
X-WR-CALNAME:SINGPromos.com
X-ORIGINAL-URL:https://singpromos.com
X-WR-CALDESC:Events for SINGPromos.com
BEGIN:VEVENT
DTSTART:20160130T000000
DTEND:20160228T235900
DTSTAMP:20260422T212627
CREATED:20160130T120736
LAST-MODIFIED:20160130T120736
UID:171441@https://singpromos.com
SUMMARY:Gelare 1-for-1 Regular Classic Waffle @ Waterway Point From 30 Jan 2016
DESCRIPTION:Gelare celebrates its opening at Waterway Point #02-25 with special promotions. Enjoy 1-for-1 Regular Classic Waffle and $1 Single Scoop Ice Cream Cup (while stocks last). For more information, visit [ https://singpromos.com/dining-restaurants-food/gelare-1-for-1-regular-classic-waffle-waterway-point-from-30-jan-2016-171441/ ]. 
LOCATION:828761
URL:https://singpromos.com/dining-restaurants-food/gelare-1-for-1-regular-classic-waffle-waterway-point-from-30-jan-2016-171441/
END:VEVENT
END:VCALENDAR