BEGIN:VCALENDAR
PRODID:-//SINGPromos.com//NONSGML v1.0//EN
VERSION:2.0
CALSCALE:GREGORIAN
METHOD:PUBLISH
X-WR-CALNAME:SINGPromos.com
X-ORIGINAL-URL:https://singpromos.com
X-WR-CALDESC:Events for SINGPromos.com
BEGIN:VEVENT
DTSTART:20160131T000000
DTEND:20160131T235900
DTSTAMP:20260422T212637
CREATED:20160130T123611
LAST-MODIFIED:20160130T123611
UID:171444@https://singpromos.com
SUMMARY:GoBuyLah! Warehouse Sale Up To 50% Off 31 Jan 2016
DESCRIPTION:GoBuyLah! online shopping mall will be having 1-day Warehouse Sale on 31 Jan at Kallang Distripark. Enjoy discounts of up to 50% off. For more information, visit [ https://singpromos.com/warehouse-sales/gobuylah-warehouse-sale-up-to-50-off-31-jan-2016-171444/ ]. 
LOCATION:1801 Geylang Bahru, 339709
URL:https://singpromos.com/warehouse-sales/gobuylah-warehouse-sale-up-to-50-off-31-jan-2016-171444/
END:VEVENT
END:VCALENDAR