BEGIN:VCALENDAR
PRODID:-//SINGPromos.com//NONSGML v1.0//EN
VERSION:2.0
CALSCALE:GREGORIAN
METHOD:PUBLISH
X-WR-CALNAME:SINGPromos.com
X-ORIGINAL-URL:https://singpromos.com
X-WR-CALDESC:Events for SINGPromos.com
BEGIN:VEVENT
DTSTART:20160201T000000
DTEND:20160229T235900
DTSTAMP:20260420T023813
CREATED:20160130T161520
LAST-MODIFIED:20160130T151853
UID:171451@https://singpromos.com
SUMMARY:SGNIC $8 .SG & More Domain Names Promotion 1 - 29 Feb 2016
DESCRIPTION:Pay SGD$8 or less for a domain name during February 2016! From 1 February to 29 February 2016, new domain names for the ".sg", ".per.sg" and more extensions under this promotion will be available at SGD$8.00 each or lower for the first year!. For more information, visit [ https://singpromos.com/web-hosting/sgnic-8-sg-more-domain-names-promotion-1-29-feb-2016-171451/ ]. 
LOCATION:
URL:https://singpromos.com/web-hosting/sgnic-8-sg-more-domain-names-promotion-1-29-feb-2016-171451/
END:VEVENT
END:VCALENDAR